BEGIN:VCALENDAR
VERSION:2.0
PRODID:-//Wolf Depredation Control Board - ECPv6.15.18//NONSGML v1.0//EN
CALSCALE:GREGORIAN
METHOD:PUBLISH
X-WR-CALNAME:Wolf Depredation Control Board
X-ORIGINAL-URL:https://wolfboard.idaho.gov
X-WR-CALDESC:Events for Wolf Depredation Control Board
REFRESH-INTERVAL;VALUE=DURATION:PT1H
X-Robots-Tag:noindex
X-PUBLISHED-TTL:PT1H
BEGIN:VTIMEZONE
TZID:America/Boise
BEGIN:DAYLIGHT
TZOFFSETFROM:-0700
TZOFFSETTO:-0600
TZNAME:MDT
DTSTART:20190310T090000
END:DAYLIGHT
BEGIN:STANDARD
TZOFFSETFROM:-0600
TZOFFSETTO:-0700
TZNAME:MST
DTSTART:20191103T080000
END:STANDARD
BEGIN:DAYLIGHT
TZOFFSETFROM:-0700
TZOFFSETTO:-0600
TZNAME:MDT
DTSTART:20200308T090000
END:DAYLIGHT
BEGIN:STANDARD
TZOFFSETFROM:-0600
TZOFFSETTO:-0700
TZNAME:MST
DTSTART:20201101T080000
END:STANDARD
BEGIN:DAYLIGHT
TZOFFSETFROM:-0700
TZOFFSETTO:-0600
TZNAME:MDT
DTSTART:20210314T090000
END:DAYLIGHT
BEGIN:STANDARD
TZOFFSETFROM:-0600
TZOFFSETTO:-0700
TZNAME:MST
DTSTART:20211107T080000
END:STANDARD
END:VTIMEZONE
BEGIN:VEVENT
DTSTART;TZID=America/Boise:20200616T140000
DTEND;TZID=America/Boise:20200616T160000
DTSTAMP:20260425T075117
CREATED:20200612T210322Z
LAST-MODIFIED:20200612T210322Z
UID:111-1592316000-1592323200@wolfboard.idaho.gov
SUMMARY:Wolf Depredation Control Board meeting
DESCRIPTION:Next meeting scheduled for Tuesday\, June 16\, 2020\, at 2 p.m. Mountain Time. \nAgenda \nMeeting Notice
URL:https://wolfboard.idaho.gov/event/wolf-depredation-control-board-meeting/
END:VEVENT
END:VCALENDAR