BEGIN:VCALENDAR
VERSION:2.0
PRODID:-//Wolf Depredation Control Board - ECPv6.15.18//NONSGML v1.0//EN
CALSCALE:GREGORIAN
METHOD:PUBLISH
X-WR-CALNAME:Wolf Depredation Control Board
X-ORIGINAL-URL:https://wolfboard.idaho.gov
X-WR-CALDESC:Events for Wolf Depredation Control Board
REFRESH-INTERVAL;VALUE=DURATION:PT1H
X-Robots-Tag:noindex
X-PUBLISHED-TTL:PT1H
BEGIN:VTIMEZONE
TZID:America/Boise
BEGIN:DAYLIGHT
TZOFFSETFROM:-0700
TZOFFSETTO:-0600
TZNAME:MDT
DTSTART:20190310T090000
END:DAYLIGHT
BEGIN:STANDARD
TZOFFSETFROM:-0600
TZOFFSETTO:-0700
TZNAME:MST
DTSTART:20191103T080000
END:STANDARD
BEGIN:DAYLIGHT
TZOFFSETFROM:-0700
TZOFFSETTO:-0600
TZNAME:MDT
DTSTART:20200308T090000
END:DAYLIGHT
BEGIN:STANDARD
TZOFFSETFROM:-0600
TZOFFSETTO:-0700
TZNAME:MST
DTSTART:20201101T080000
END:STANDARD
BEGIN:DAYLIGHT
TZOFFSETFROM:-0700
TZOFFSETTO:-0600
TZNAME:MDT
DTSTART:20210314T090000
END:DAYLIGHT
BEGIN:STANDARD
TZOFFSETFROM:-0600
TZOFFSETTO:-0700
TZNAME:MST
DTSTART:20211107T080000
END:STANDARD
END:VTIMEZONE
BEGIN:VEVENT
DTSTART;TZID=America/Boise:20200519T133000
DTEND;TZID=America/Boise:20200519T153000
DTSTAMP:20260425T131143
CREATED:20200512T211006Z
LAST-MODIFIED:20200512T211143Z
UID:98-1589895000-1589902200@wolfboard.idaho.gov
SUMMARY:Regular Meeting
DESCRIPTION:May 19\, 2020 – 1:30 – 3:30 PM Mountain Time \nMeeting Notice \nAGENDA: \n1:30 p.m. \nConvene Meeting and Introductions \nNew Board member Stephen McGrath \nApproval of Minutes from prior meeting –Action Item \nPublic Comments \nReview FY20 Fiscal Report (Kelly) \nReview invoices that have been paid – Action Item \nReview Fish and Game letter and invoice to be paid – Action Item \nWildlife Services (Todd) \nReview FY20 Depredation Control Summary \nReview FY21 Work/Financial Plan Proposal – Action Item \nFish and Game (Martha) \nReview FY20 Report \nReview FY21 Work/Financial Plan Proposal– Action Item \nOther Business \n3:30 p.m.              Wrap-up and Adjourn
URL:https://wolfboard.idaho.gov/event/regular-meeting/
END:VEVENT
END:VCALENDAR