﻿BEGIN:VCALENDAR
VERSION:2.0
PRODID:-//Wolf Depredation Control Board - ECPv5.3.2.1//NONSGML v1.0//EN
CALSCALE:GREGORIAN
METHOD:PUBLISH
X-WR-CALNAME:Wolf Depredation Control Board
X-ORIGINAL-URL:https://wolfboard.idaho.gov
X-WR-CALDESC:Events for Wolf Depredation Control Board
BEGIN:VTIMEZONE
TZID:America/Boise
BEGIN:DAYLIGHT
TZOFFSETFROM:-0700
TZOFFSETTO:-0600
TZNAME:MDT
DTSTART:20210314T090000
END:DAYLIGHT
BEGIN:STANDARD
TZOFFSETFROM:-0600
TZOFFSETTO:-0700
TZNAME:MST
DTSTART:20211107T080000
END:STANDARD
END:VTIMEZONE
BEGIN:VEVENT
DTSTART;TZID=America/Boise:20210217T133000
DTEND;TZID=America/Boise:20210217T150000
DTSTAMP:20210427T001318
CREATED:20201123T154144Z
LAST-MODIFIED:20201123T154144Z
UID:167-1613568600-1613574000@wolfboard.idaho.gov
SUMMARY:Wolf Board Quarterly Meeting
DESCRIPTION:
URL:https://wolfboard.idaho.gov/event/wolf-board-quarterly-meeting-2/
LOCATION:Teleconference
END:VEVENT
END:VCALENDAR